BEGIN:VCALENDAR
VERSION:2.0
METHOD:PUBLISH
CALSCALE:GREGORIAN
PRODID:-//Refresh Web Development//Helios Calendar//EN
X-FROM-URL:https://www.bayareascience.org/calendar/index.php?com=details&eID=35442
X-WR-RELCALID:BayAreaScience.org Coastal dynamics in the Anthropocene: Integrated watershed-coastal processes on temperate Eastern Pacific coasts 20240212T123000
X-WR-TIMEZONE:America/New_York
X-WR-CALNAME:BayAreaScience.org
BEGIN:VEVENT
URL;VALUE=URI:https://www.bayareascience.org/calendar/index.php?com=detail&eID=35442
DTSTART:20240212T123000
DTEND:20240212T133000
SUMMARY:Coastal dynamics in the Anthropocene: Integrated watershed-coastal processes on temperate Eastern Pacific coasts
DESCRIPTION:The integrated effects of watershed hydrology and coastal hydrodynamics are felt in wetlands\, estuaries\, deltas\, and exposed coasts. Small watersheds with steep topography\, common in California...\n______________________________\nThis Event Downloaded From a Helios Calendar Powered Site
LOCATION:Shriram Center - Stanford University Room 104\, Stanford\, CA  94305
CATEGORIES:BayAreaScience.org Events
PRIORITY:0
TRANSP:TRANSPARENT
END:VEVENT
END:VCALENDAR