BEGIN:VCALENDAR
VERSION:2.0
METHOD:PUBLISH
CALSCALE:GREGORIAN
PRODID:-//Refresh Web Development//Helios Calendar//EN
X-FROM-URL:https://www.bayareascience.org/calendar/index.php?com=details&eID=35464
X-WR-RELCALID:BayAreaScience.org Spinning Tales: Exploring Muons 20240226T160000
X-WR-TIMEZONE:America/New_York
X-WR-CALNAME:BayAreaScience.org
BEGIN:VEVENT
URL;VALUE=URI:https://www.bayareascience.org/calendar/index.php?com=detail&eID=35464
DTSTART:20240226T160000
DTEND:20240226T160000
SUMMARY:Spinning Tales: Exploring Muons
DESCRIPTION:Dr. Maarten Golterman will delve into the fascinating world of muon anomalous magnetic moment and its implications through the lens of quantum field theory.Speaker: Maarten Golterman\, San...\n______________________________\nThis Event Downloaded From a Helios Calendar Powered Site
LOCATION:Sonoma State University - What Physicists Do - 1801 E. Cotati Ave. Darwin Hall\, Room 103\, Rohnert Park\, CA USA 94928
CATEGORIES:BayAreaScience.org Events
PRIORITY:0
TRANSP:TRANSPARENT
END:VEVENT
END:VCALENDAR