BEGIN:VCALENDAR
VERSION:2.0
METHOD:PUBLISH
CALSCALE:GREGORIAN
PRODID:-//Refresh Web Development//Helios Calendar//EN
X-FROM-URL:https://www.bayareascience.org/calendar/index.php?com=details&eID=35465
X-WR-RELCALID:BayAreaScience.org A Magic Show of the Neutrinos 20240304T160000
X-WR-TIMEZONE:America/New_York
X-WR-CALNAME:BayAreaScience.org
BEGIN:VEVENT
URL;VALUE=URI:https://www.bayareascience.org/calendar/index.php?com=detail&eID=35465
DTSTART:20240304T160000
DTEND:20240304T160000
SUMMARY:A Magic Show of the Neutrinos
DESCRIPTION:Dr. Kam-Biu Luk will present an exploration of an intriguing phenomenon called neutrino oscillation.Speaker: Kam-Biu Luk\, UC Berkeley\n______________________________\nThis Event Downloaded From a Helios Calendar Powered Site
LOCATION:Sonoma State University - What Physicists Do - 1801 E. Cotati Ave. Darwin Hall\, Room 103\, Rohnert Park\, CA USA 94928
CATEGORIES:BayAreaScience.org Events
PRIORITY:0
TRANSP:TRANSPARENT
END:VEVENT
END:VCALENDAR