BEGIN:VCALENDAR
VERSION:2.0
METHOD:PUBLISH
CALSCALE:GREGORIAN
PRODID:-//Refresh Web Development//Helios Calendar//EN
X-FROM-URL:https://www.bayareascience.org/calendar/index.php?com=details&eID=35467
X-WR-RELCALID:BayAreaScience.org Superconductivity, the Hype, the Reality, and the Experiments 20240415T160000
X-WR-TIMEZONE:America/New_York
X-WR-CALNAME:BayAreaScience.org
BEGIN:VEVENT
URL;VALUE=URI:https://www.bayareascience.org/calendar/index.php?com=detail&eID=35467
DTSTART:20240415T160000
DTEND:20240415T160000
SUMMARY:Superconductivity\, the Hype\, the Reality\, and the Experiments
DESCRIPTION:Professor Inna Vishik will discuss superconductors -- wonder materials that conduct lossless electricity -- in the popular imagination and in the lab.Speaker: Inna Vishik\, UC Davis\n______________________________\nThis Event Downloaded From a Helios Calendar Powered Site
LOCATION:Sonoma State University - What Physicists Do - 1801 E. Cotati Ave. Darwin Hall\, Room 103\, Rohnert Park\, CA USA 94928
CATEGORIES:BayAreaScience.org Events
PRIORITY:0
TRANSP:TRANSPARENT
END:VEVENT
END:VCALENDAR