BEGIN:VCALENDAR
VERSION:2.0
METHOD:PUBLISH
CALSCALE:GREGORIAN
PRODID:-//Refresh Web Development//Helios Calendar//EN
X-FROM-URL:https://www.bayareascience.org/calendar/index.php?com=details&eID=35475
X-WR-RELCALID:BayAreaScience.org Astronomy on Tap Santa Cruz: From Star Stories to Space Mysteries: A Journey through the Universe 20240215T183000
X-WR-TIMEZONE:America/New_York
X-WR-CALNAME:BayAreaScience.org
BEGIN:VEVENT
URL;VALUE=URI:https://www.bayareascience.org/calendar/index.php?com=detail&eID=35475
DTSTART:20240215T183000
DTEND:20240215T200000
SUMMARY:Astronomy on Tap Santa Cruz: From Star Stories to Space Mysteries: A Journey through the Universe
DESCRIPTION:Join us on an adventure from the ancient tales of the cosmos to todayâ€™s quest to uncover the universeâ€™s deepest secrets. Weâ€™ll explore how curiosity about the night...\n______________________________\nThis Event Downloaded From a Helios Calendar Powered Site
LOCATION:Humble Sea Brewing Co - 820 Swift St \, Santa Cruz\, CA  95060
CATEGORIES:BayAreaScience.org Events
PRIORITY:0
TRANSP:TRANSPARENT
END:VEVENT
END:VCALENDAR