BEGIN:VCALENDAR
VERSION:2.0
METHOD:PUBLISH
CALSCALE:GREGORIAN
PRODID:-//Refresh Web Development//Helios Calendar//EN
X-FROM-URL:https://www.bayareascience.org/calendar/index.php?com=details&eID=35476
X-WR-RELCALID:BayAreaScience.org Astronomy on Tap Tucson #95: Indiaâ€™s Solar Space Telescope + Astronomical Explosions - Livestream 20240220T183000
X-WR-TIMEZONE:America/New_York
X-WR-CALNAME:BayAreaScience.org
BEGIN:VEVENT
URL;VALUE=URI:https://www.bayareascience.org/calendar/index.php?com=detail&eID=35476
DTSTART:20240220T183000
DTEND:20240220T200000
SUMMARY:Astronomy on Tap Tucson #95: Indiaâ€™s Solar Space Telescope + Astronomical Explosions - Livestream
DESCRIPTION:A Trial by Sunâ€™s Fire: Designing a Telescope to Study the Solar Atmosphere with Indiaâ€™s First Solar Space Observatory\n______________________________\nThis Event Downloaded From a Helios Calendar Powered Site
LOCATION:Astronomy on Tap -  \, \, CA  
CATEGORIES:BayAreaScience.org Events
PRIORITY:0
TRANSP:TRANSPARENT
END:VEVENT
END:VCALENDAR