BEGIN:VCALENDAR
VERSION:2.0
METHOD:PUBLISH
CALSCALE:GREGORIAN
PRODID:-//Refresh Web Development//Helios Calendar//EN
X-FROM-URL:https://www.bayareascience.org/calendar/index.php?com=details&eID=35478
X-WR-RELCALID:BayAreaScience.org Discoveries at Laetoli: Footprints, Fossils, and Hominin Diversity - Livestream 20240215T110000
X-WR-TIMEZONE:America/New_York
X-WR-CALNAME:BayAreaScience.org
BEGIN:VEVENT
URL;VALUE=URI:https://www.bayareascience.org/calendar/index.php?com=detail&eID=35478
DTSTART:20240215T110000
DTEND:20240215T120000
SUMMARY:Discoveries at Laetoli: Footprints\, Fossils\, and Hominin Diversity - Livestream
DESCRIPTION:Join paleoanthropologist Dr. Charles Musiba to learn about Laetoliâ€™s famous 3.6 million-year-old footprints\, the hominins who made them\, and new discoveries at the site.There are...\n______________________________\nThis Event Downloaded From a Helios Calendar Powered Site
LOCATION:The Leakey Foundation -  \, \, CA  
CATEGORIES:BayAreaScience.org Events
PRIORITY:0
TRANSP:TRANSPARENT
END:VEVENT
END:VCALENDAR