BEGIN:VCALENDAR
VERSION:2.0
METHOD:PUBLISH
CALSCALE:GREGORIAN
PRODID:-//Refresh Web Development//Helios Calendar//EN
X-FROM-URL:https://www.bayareascience.org/calendar/index.php?com=details&eID=35479
X-WR-RELCALID:BayAreaScience.org Stewardship Saturday: Experiencing Fish Kitchen 20240330T110000
X-WR-TIMEZONE:America/New_York
X-WR-CALNAME:BayAreaScience.org
BEGIN:VEVENT
URL;VALUE=URI:https://www.bayareascience.org/calendar/index.php?com=detail&eID=35479
DTSTART:20240330T110000
DTEND:20240330T160000
SUMMARY:Stewardship Saturday: Experiencing Fish Kitchen
DESCRIPTION:Join us for this exclusive behind-the-scenes opportunity to visit The Marine Mammal Center\, observe patients being fed and support our hard-working volunteer crews with some extra help during our...\n______________________________\nThis Event Downloaded From a Helios Calendar Powered Site
LOCATION:Marine Mammal Center - 2000 Bunker Road \, Sausalito\, CA  94965
CATEGORIES:BayAreaScience.org Events
PRIORITY:0
TRANSP:TRANSPARENT
END:VEVENT
END:VCALENDAR