BEGIN:VCALENDAR
VERSION:2.0
METHOD:PUBLISH
CALSCALE:GREGORIAN
PRODID:-//Refresh Web Development//Helios Calendar//EN
X-FROM-URL:https://www.bayareascience.org/calendar/index.php?com=details&eID=35481
X-WR-RELCALID:BayAreaScience.org Europeâ€™s Digital Future: an holistic approach to digital inclusion - Livestream 20240221T110000
X-WR-TIMEZONE:America/New_York
X-WR-CALNAME:BayAreaScience.org
BEGIN:VEVENT
URL;VALUE=URI:https://www.bayareascience.org/calendar/index.php?com=detail&eID=35481
DTSTART:20240221T110000
DTEND:20240221T120000
SUMMARY:Europeâ€™s Digital Future: an holistic approach to digital inclusion - Livestream
DESCRIPTION:As the world transitions to a new digital economy\, access to digital technologies becomes a fundamental necessity for all. However\, our adaptation to this new digital economy is significantly lagging...\n______________________________\nThis Event Downloaded From a Helios Calendar Powered Site
LOCATION:UC Berkeley -  \, \, CA  
CATEGORIES:BayAreaScience.org Events
PRIORITY:0
TRANSP:TRANSPARENT
END:VEVENT
END:VCALENDAR