BEGIN:VCALENDAR
VERSION:2.0
METHOD:PUBLISH
CALSCALE:GREGORIAN
PRODID:-//Refresh Web Development//Helios Calendar//EN
X-FROM-URL:https://www.bayareascience.org/calendar/index.php?com=details&eID=35482
X-WR-RELCALID:BayAreaScience.org  NightLife Intersections: Dance 20240307T180000
X-WR-TIMEZONE:America/New_York
X-WR-CALNAME:BayAreaScience.org
BEGIN:VEVENT
URL;VALUE=URI:https://www.bayareascience.org/calendar/index.php?com=detail&eID=35482
DTSTART:20240307T180000
DTEND:20240307T220000
SUMMARY: NightLife Intersections: Dance
DESCRIPTION:From Bhangra to Pan Afro-Urban dance and Samba\, see how the dance floor becomes a canvas for self-expression. Stay tuned for more info!\n______________________________\nThis Event Downloaded From a Helios Calendar Powered Site
LOCATION:California Academy of Sciences - 55 Music Concourse Dr. \, San Francisco\, CA USA 94118
CATEGORIES:BayAreaScience.org Events
PRIORITY:0
TRANSP:TRANSPARENT
END:VEVENT
END:VCALENDAR