BEGIN:VCALENDAR
VERSION:2.0
METHOD:PUBLISH
CALSCALE:GREGORIAN
PRODID:-//Refresh Web Development//Helios Calendar//EN
X-FROM-URL:https://www.bayareascience.org/calendar/index.php?com=details&eID=35486
X-WR-RELCALID:BayAreaScience.org Sonoma County Mycological monthly meeting: SOMA Scholarship Recipients - Livestream 20240215T183000
X-WR-TIMEZONE:America/New_York
X-WR-CALNAME:BayAreaScience.org
BEGIN:VEVENT
URL;VALUE=URI:https://www.bayareascience.org/calendar/index.php?com=detail&eID=35486
DTSTART:20240215T183000
DTEND:20240215T200000
SUMMARY:Sonoma County Mycological monthly meeting: SOMA Scholarship Recipients - Livestream
DESCRIPTION:For the February meeting the recipients of the SOMA scholarship will be presenting on their research. The meeting will start with a series of short 5 minute â€œflash talksâ€ and then several...\n______________________________\nThis Event Downloaded From a Helios Calendar Powered Site
LOCATION:Sonoma County Mycological Association -  \, \, CA  
CATEGORIES:BayAreaScience.org Events
PRIORITY:0
TRANSP:TRANSPARENT
END:VEVENT
END:VCALENDAR