BEGIN:VCALENDAR
VERSION:2.0
METHOD:PUBLISH
CALSCALE:GREGORIAN
PRODID:-//Refresh Web Development//Helios Calendar//EN
X-FROM-URL:https://www.bayareascience.org/calendar/index.php?com=details&eID=35488
X-WR-RELCALID:BayAreaScience.org Spring BioBlitz at the Palo Alto Baylands 20240406T090000
X-WR-TIMEZONE:America/New_York
X-WR-CALNAME:BayAreaScience.org
BEGIN:VEVENT
URL;VALUE=URI:https://www.bayareascience.org/calendar/index.php?com=detail&eID=35488
DTSTART:20240406T090000
DTEND:20240406T110000
SUMMARY:Spring BioBlitz at the Palo Alto Baylands
DESCRIPTION:Join theÂ Environmental VolunteersÂ for a Spring BioBlitz in the Palo Alto Baylands Nature Preserve and Byxbee Park.Spring is a wonderful time for flowers\, pollinators\, as well as courting...\n______________________________\nThis Event Downloaded From a Helios Calendar Powered Site
LOCATION:Environmental Volunteers EcoCenter - 2560 Embarcadero Road \, Palo Alto\, CA  94303
CATEGORIES:BayAreaScience.org Events
PRIORITY:0
TRANSP:TRANSPARENT
END:VEVENT
END:VCALENDAR