BEGIN:VCALENDAR
VERSION:2.0
METHOD:PUBLISH
CALSCALE:GREGORIAN
PRODID:-//Refresh Web Development//Helios Calendar//EN
X-FROM-URL:https://www.bayareascience.org/calendar/index.php?com=details&eID=35489
X-WR-RELCALID:BayAreaScience.org Can Psychedelics Catalyze Genius in the Sciences and Arts? 20240322T190000
X-WR-TIMEZONE:America/New_York
X-WR-CALNAME:BayAreaScience.org
BEGIN:VEVENT
URL;VALUE=URI:https://www.bayareascience.org/calendar/index.php?com=detail&eID=35489
DTSTART:20240322T190000
DTEND:20240322T210000
SUMMARY:Can Psychedelics Catalyze Genius in the Sciences and Arts?
DESCRIPTION:Dr. Bruce Damer is a scientist who had a major breakthrough\, catalyzed by his ayahuasca and other psychedelic experiences\, in which he saw how life might have originated. Presented to colleagues...\n______________________________\nThis Event Downloaded From a Helios Calendar Powered Site
LOCATION:The Berkeley Alembic - 2820 Seventh St \, Berkeley\, CA  94710
CATEGORIES:BayAreaScience.org Events
PRIORITY:0
TRANSP:TRANSPARENT
END:VEVENT
END:VCALENDAR