BEGIN:VCALENDAR
VERSION:2.0
METHOD:PUBLISH
CALSCALE:GREGORIAN
PRODID:-//Refresh Web Development//Helios Calendar//EN
X-FROM-URL:https://www.bayareascience.org/calendar/index.php?com=details&eID=35490
X-WR-RELCALID:BayAreaScience.org From Earth to Mars: The Incredible Story of the Ingenuity Helicopter - Livestream 20240215T143000
X-WR-TIMEZONE:America/New_York
X-WR-CALNAME:BayAreaScience.org
BEGIN:VEVENT
URL;VALUE=URI:https://www.bayareascience.org/calendar/index.php?com=detail&eID=35490
DTSTART:20240215T143000
DTEND:20240215T150000
SUMMARY:From Earth to Mars: The Incredible Story of the Ingenuity Helicopter - Livestream
DESCRIPTION:With a first flight on April 19\, 2021\, NASA's Ingenuity helicopter broke ground on new capabilities for remote planetary missions. For nearly three years\, the little drone far exceeded the originally...\n______________________________\nThis Event Downloaded From a Helios Calendar Powered Site
LOCATION:SETI Institute -  \, \, CA  
CATEGORIES:BayAreaScience.org Events
PRIORITY:0
TRANSP:TRANSPARENT
END:VEVENT
END:VCALENDAR