BEGIN:VCALENDAR
VERSION:2.0
METHOD:PUBLISH
CALSCALE:GREGORIAN
PRODID:-//Refresh Web Development//Helios Calendar//EN
X-FROM-URL:https://www.bayareascience.org/calendar/index.php?com=details&eID=35494
X-WR-RELCALID:BayAreaScience.org Twelve Fast, Experimentally-Vetted Ways to Reduce Denial of Human-Caused Global Warming 20240222T160000
X-WR-TIMEZONE:America/New_York
X-WR-CALNAME:BayAreaScience.org
BEGIN:VEVENT
URL;VALUE=URI:https://www.bayareascience.org/calendar/index.php?com=detail&eID=35494
DTSTART:20240222T160000
DTEND:20240222T173000
SUMMARY:Twelve Fast\, Experimentally-Vetted Ways to Reduce Denial of Human-Caused Global Warming
DESCRIPTION:\n______________________________\nThis Event Downloaded From a Helios Calendar Powered Site
LOCATION:Berkeley Way West - UC Berkeley\, Room 4500 2121 Berkeley Way\, Berkeley\, CA  94720
CATEGORIES:BayAreaScience.org Events
PRIORITY:0
TRANSP:TRANSPARENT
END:VEVENT
END:VCALENDAR