BEGIN:VCALENDAR
VERSION:2.0
METHOD:PUBLISH
CALSCALE:GREGORIAN
PRODID:-//Refresh Web Development//Helios Calendar//EN
X-FROM-URL:https://www.bayareascience.org/calendar/index.php?com=details&eID=35499
X-WR-RELCALID:BayAreaScience.org Public Astronomy Viewing Nights - CANCELED 20240301T190000
X-WR-TIMEZONE:America/New_York
X-WR-CALNAME:BayAreaScience.org
BEGIN:VEVENT
URL;VALUE=URI:https://www.bayareascience.org/calendar/index.php?com=detail&eID=35499
DTSTART:20240301T190000
DTEND:20240301T203000
SUMMARY:Public Astronomy Viewing Nights - CANCELED
DESCRIPTION:Sonoma State University hosts astronomical viewing nights open to the public.Â  Events are weather dependent.Â  Check the weblink for cancelations prior to attending.\n______________________________\nThis Event Downloaded From a Helios Calendar Powered Site
LOCATION:Sonoma State University Public Astronomy - Observatory 1801 East Cotati Ave\, Rohnert Park\, CA  94928
CATEGORIES:BayAreaScience.org Events
PRIORITY:0
TRANSP:TRANSPARENT
END:VEVENT
END:VCALENDAR