BEGIN:VCALENDAR
VERSION:2.0
METHOD:PUBLISH
CALSCALE:GREGORIAN
PRODID:-//Refresh Web Development//Helios Calendar//EN
X-FROM-URL:https://www.bayareascience.org/calendar/index.php?com=details&eID=35501
X-WR-RELCALID:BayAreaScience.org Stanford Atmosphere/Energy Seminar 20240220T120000
X-WR-TIMEZONE:America/New_York
X-WR-CALNAME:BayAreaScience.org
BEGIN:VEVENT
URL;VALUE=URI:https://www.bayareascience.org/calendar/index.php?com=detail&eID=35501
DTSTART:20240220T120000
DTEND:20240220T132000
SUMMARY:Stanford Atmosphere/Energy Seminar
DESCRIPTION:The Atmosphere/Energy Seminar is an interdisciplinary seminar with talks by researchers and practitioners in the fields of atmospheric science and renewable energy engineering. Addresses the causes...\n______________________________\nThis Event Downloaded From a Helios Calendar Powered Site
LOCATION:History Corner (Bldg 200) - 450 Serra Mall Stanford University\, Stanford\, CA  94305
CATEGORIES:BayAreaScience.org Events
PRIORITY:0
TRANSP:TRANSPARENT
END:VEVENT
END:VCALENDAR