BEGIN:VCALENDAR
VERSION:2.0
METHOD:PUBLISH
CALSCALE:GREGORIAN
PRODID:-//Refresh Web Development//Helios Calendar//EN
X-FROM-URL:https://www.bayareascience.org/calendar/index.php?com=details&eID=35503
X-WR-RELCALID:BayAreaScience.org The Future of Mars Helicopters 20240906T200000
X-WR-TIMEZONE:America/New_York
X-WR-CALNAME:BayAreaScience.org
BEGIN:VEVENT
URL;VALUE=URI:https://www.bayareascience.org/calendar/index.php?com=detail&eID=35503
DTSTART:20240906T200000
DTEND:20240906T200000
SUMMARY:The Future of Mars Helicopters
DESCRIPTION:Ingenuity has shown that flying in the Martian atmosphere is possible\, and that helicopters can provide critical insight and support to ground-based assets. Though Ingenuity was designed for five...\n______________________________\nThis Event Downloaded From a Helios Calendar Powered Site
LOCATION:College of San Mateo Bldg 36 - 1700 W Hillsdale Rd \, San Mateo\, CA USA 94402
CATEGORIES:BayAreaScience.org Events
PRIORITY:0
TRANSP:TRANSPARENT
END:VEVENT
END:VCALENDAR