BEGIN:VCALENDAR
VERSION:2.0
METHOD:PUBLISH
CALSCALE:GREGORIAN
PRODID:-//Refresh Web Development//Helios Calendar//EN
X-FROM-URL:https://www.bayareascience.org/calendar/index.php?com=details&eID=35505
X-WR-RELCALID:BayAreaScience.org The Hunt for Planet B - Livestream 20240222T183000
X-WR-TIMEZONE:America/New_York
X-WR-CALNAME:BayAreaScience.org
BEGIN:VEVENT
URL;VALUE=URI:https://www.bayareascience.org/calendar/index.php?com=detail&eID=35505
DTSTART:20240222T183000
DTEND:20240222T213000
SUMMARY:The Hunt for Planet B - Livestream
DESCRIPTION:The Hunt for Planet B captures the human drama behind NASA's high-stakes Webb Telescope which launched on December 25\, 2021. The film interweaves the creation of this massive machine -...\n______________________________\nThis Event Downloaded From a Helios Calendar Powered Site
LOCATION:SETI Institute -  \, \, CA  
CATEGORIES:BayAreaScience.org Events
PRIORITY:0
TRANSP:TRANSPARENT
END:VEVENT
END:VCALENDAR