BEGIN:VCALENDAR
VERSION:2.0
METHOD:PUBLISH
CALSCALE:GREGORIAN
PRODID:-//Refresh Web Development//Helios Calendar//EN
X-FROM-URL:https://www.bayareascience.org/calendar/index.php?com=details&eID=35511
X-WR-RELCALID:BayAreaScience.org Gaming and Inclusivity 20240318T173000
X-WR-TIMEZONE:America/New_York
X-WR-CALNAME:BayAreaScience.org
BEGIN:VEVENT
URL;VALUE=URI:https://www.bayareascience.org/calendar/index.php?com=detail&eID=35511
DTSTART:20240318T173000
DTEND:20240318T203000
SUMMARY:Gaming and Inclusivity
DESCRIPTION:Join us for a captivating exploration into the intersection of gaming and inclusivity at our upcoming event on Monday\, March 18\, 2024 and engage in a thought-provoking conversation with diverse...\n______________________________\nThis Event Downloaded From a Helios Calendar Powered Site
LOCATION:swissnex San Francisco - The Embarcadero Pier 17\, Suite 800\, San Francisco\, CA  94111
CATEGORIES:BayAreaScience.org Events
PRIORITY:0
TRANSP:TRANSPARENT
END:VEVENT
END:VCALENDAR