BEGIN:VCALENDAR
VERSION:2.0
METHOD:PUBLISH
CALSCALE:GREGORIAN
PRODID:-//Refresh Web Development//Helios Calendar//EN
X-FROM-URL:https://www.bayareascience.org/calendar/index.php?com=details&eID=35513
X-WR-RELCALID:BayAreaScience.org Wonderfest: BLACKBERRY and Corporate Psychology 20240326T170000
X-WR-TIMEZONE:America/New_York
X-WR-CALNAME:BayAreaScience.org
BEGIN:VEVENT
URL;VALUE=URI:https://www.bayareascience.org/calendar/index.php?com=detail&eID=35513
DTSTART:20240326T170000
DTEND:20240326T193000
SUMMARY:Wonderfest: BLACKBERRY and Corporate Psychology
DESCRIPTION:How and why do corporations decline?...\n______________________________\nThis Event Downloaded From a Helios Calendar Powered Site
LOCATION:Cameo Cinema - 1340 Main St \, St. Helena\, CA  94574
CATEGORIES:BayAreaScience.org Events
PRIORITY:0
TRANSP:TRANSPARENT
END:VEVENT
END:VCALENDAR