BEGIN:VCALENDAR
VERSION:2.0
METHOD:PUBLISH
CALSCALE:GREGORIAN
PRODID:-//Refresh Web Development//Helios Calendar//EN
X-FROM-URL:https://www.bayareascience.org/calendar/index.php?com=details&eID=35519
X-WR-RELCALID:BayAreaScience.org Dialed In:  The Prehistory of Social Media 20240425T190000
X-WR-TIMEZONE:America/New_York
X-WR-CALNAME:BayAreaScience.org
BEGIN:VEVENT
URL;VALUE=URI:https://www.bayareascience.org/calendar/index.php?com=detail&eID=35519
DTSTART:20240425T190000
DTEND:20240425T201500
SUMMARY:Dialed In:  The Prehistory of Social Media
DESCRIPTION:Long before online forums and communities like Reddit and Discord\, and even before the World Wide Web\, bulletin board systems (BBSs) reigned supreme. During their heyday in the 1980s and '90s\,...\n______________________________\nThis Event Downloaded From a Helios Calendar Powered Site
LOCATION:Computer History Museum - 1401 N Shoreline Blvd  \, Mountain View\, CA  94043
CATEGORIES:BayAreaScience.org Events
PRIORITY:0
TRANSP:TRANSPARENT
END:VEVENT
END:VCALENDAR