BEGIN:VCALENDAR
VERSION:2.0
METHOD:PUBLISH
CALSCALE:GREGORIAN
PRODID:-//Refresh Web Development//Helios Calendar//EN
X-FROM-URL:https://www.bayareascience.org/calendar/index.php?com=details&eID=35521
X-WR-RELCALID:BayAreaScience.org Virtual Tour: Caltrain Electric Trains Deep Dive 20240320T123000
X-WR-TIMEZONE:America/New_York
X-WR-CALNAME:BayAreaScience.org
BEGIN:VEVENT
URL;VALUE=URI:https://www.bayareascience.org/calendar/index.php?com=detail&eID=35521
DTSTART:20240320T123000
DTEND:20240320T133000
SUMMARY:Virtual Tour: Caltrain Electric Trains Deep Dive
DESCRIPTION:In advance of the in-person tour of Caltrainâ€™s new electric trains\, join us for a deep dive into the ins and outs of this electrification project. This is an opportunity to learn more about...\n______________________________\nThis Event Downloaded From a Helios Calendar Powered Site
LOCATION:SF Planning+Urban Research Assoc. (SPUR) -  \, \, CA  
CATEGORIES:BayAreaScience.org Events
PRIORITY:0
TRANSP:TRANSPARENT
END:VEVENT
END:VCALENDAR