BEGIN:VCALENDAR
VERSION:2.0
METHOD:PUBLISH
CALSCALE:GREGORIAN
PRODID:-//Refresh Web Development//Helios Calendar//EN
X-FROM-URL:https://www.bayareascience.org/calendar/index.php?com=details&eID=35523
X-WR-RELCALID:BayAreaScience.org SETI Live: 'Under Alien Skies: A sightseers guide to the Universe' - Livestream 20240222T143000
X-WR-TIMEZONE:America/New_York
X-WR-CALNAME:BayAreaScience.org
BEGIN:VEVENT
URL;VALUE=URI:https://www.bayareascience.org/calendar/index.php?com=detail&eID=35523
DTSTART:20240222T143000
DTEND:20240222T150000
SUMMARY:SETI Live: 'Under Alien Skies: A sightseers guide to the Universe' - Livestream
DESCRIPTION:Phil Plait\, aka the Bad Astronomer\, has been communicating and correcting space science since the turn of the century (sorry\, Phil!). His first book\, "Bad Astronomy"\, tackled numerous misconceptions...\n______________________________\nThis Event Downloaded From a Helios Calendar Powered Site
LOCATION:SETI Institute -  \, \, CA  
CATEGORIES:BayAreaScience.org Events
PRIORITY:0
TRANSP:TRANSPARENT
END:VEVENT
END:VCALENDAR