BEGIN:VCALENDAR
VERSION:2.0
METHOD:PUBLISH
CALSCALE:GREGORIAN
PRODID:-//Refresh Web Development//Helios Calendar//EN
X-FROM-URL:https://www.bayareascience.org/calendar/index.php?com=details&eID=35528
X-WR-RELCALID:BayAreaScience.org Exoplanet Deep Interiors with JWST 20240226T121000
X-WR-TIMEZONE:America/New_York
X-WR-CALNAME:BayAreaScience.org
BEGIN:VEVENT
URL;VALUE=URI:https://www.bayareascience.org/calendar/index.php?com=detail&eID=35528
DTSTART:20240226T121000
DTEND:20240226T130000
SUMMARY:Exoplanet Deep Interiors with JWST
DESCRIPTION:Observations of exoplanetary atmospheres provide a valuable upper boundary condition for studying their interiors.Â  The species that appear in transmission and emission spectra are formed from...\n______________________________\nThis Event Downloaded From a Helios Calendar Powered Site
LOCATION:Campbell Hall\, Rm 131 A - UC Berkeley \, Berkeley\, CA USA 94720
CATEGORIES:BayAreaScience.org Events
PRIORITY:0
TRANSP:TRANSPARENT
END:VEVENT
END:VCALENDAR