BEGIN:VCALENDAR
VERSION:2.0
METHOD:PUBLISH
CALSCALE:GREGORIAN
PRODID:-//Refresh Web Development//Helios Calendar//EN
X-FROM-URL:https://www.bayareascience.org/calendar/index.php?com=details&eID=35532
X-WR-RELCALID:BayAreaScience.org Ocean solutions to global climate challenges: ARPA-Eâ€™s perspective on ocean-based carbon dioxide removal (CDR) at scale 20240227T123000
X-WR-TIMEZONE:America/New_York
X-WR-CALNAME:BayAreaScience.org
BEGIN:VEVENT
URL;VALUE=URI:https://www.bayareascience.org/calendar/index.php?com=detail&eID=35532
DTSTART:20240227T123000
DTEND:20240227T132000
SUMMARY:Ocean solutions to global climate challenges: ARPA-Eâ€™s perspective on ocean-based carbon dioxide removal (CDR) at scale
DESCRIPTION:\n______________________________\nThis Event Downloaded From a Helios Calendar Powered Site
LOCATION:Mitchell Earth Sciences Building (04-560) - 397 Panama Mall Stanford University\, Stanford\, CA  94305
CATEGORIES:BayAreaScience.org Events
PRIORITY:0
TRANSP:TRANSPARENT
END:VEVENT
END:VCALENDAR