BEGIN:VCALENDAR
VERSION:2.0
METHOD:PUBLISH
CALSCALE:GREGORIAN
PRODID:-//Refresh Web Development//Helios Calendar//EN
X-FROM-URL:https://www.bayareascience.org/calendar/index.php?com=details&eID=35536
X-WR-RELCALID:BayAreaScience.org Myths of Astronomy 20240403T190000
X-WR-TIMEZONE:America/New_York
X-WR-CALNAME:BayAreaScience.org
BEGIN:VEVENT
URL;VALUE=URI:https://www.bayareascience.org/calendar/index.php?com=detail&eID=35536
DTSTART:20240403T190000
DTEND:20240403T203000
SUMMARY:Myths of Astronomy
DESCRIPTION:Much of what we think we know about space comes from film and television\, but Hollywood's job is more often to entertain than to educate. In this fun and informative presentation\, Dr. Thomas Targett...\n______________________________\nThis Event Downloaded From a Helios Calendar Powered Site
LOCATION:Randall Museum - 199 Museum Way \, San Francisco\, CA  94114
CATEGORIES:BayAreaScience.org Events
PRIORITY:0
TRANSP:TRANSPARENT
END:VEVENT
END:VCALENDAR