BEGIN:VCALENDAR
VERSION:2.0
METHOD:PUBLISH
CALSCALE:GREGORIAN
PRODID:-//Refresh Web Development//Helios Calendar//EN
X-FROM-URL:https://www.bayareascience.org/calendar/index.php?com=details&eID=35547
X-WR-RELCALID:BayAreaScience.org Catch M(oor)e If You Can: Agile Hardware/Software Co-Design for Hyperscale Cloud Systems 20240304T140000
X-WR-TIMEZONE:America/New_York
X-WR-CALNAME:BayAreaScience.org
BEGIN:VEVENT
URL;VALUE=URI:https://www.bayareascience.org/calendar/index.php?com=detail&eID=35547
DTSTART:20240304T140000
DTEND:20240304T150000
SUMMARY:Catch M(oor)e If You Can: Agile Hardware/Software Co-Design for Hyperscale Cloud Systems
DESCRIPTION:\n______________________________\nThis Event Downloaded From a Helios Calendar Powered Site
LOCATION:Cory Hall - UC Berkeley Room 540 A/B\, Berkeley\, CA  94720
CATEGORIES:BayAreaScience.org Events
PRIORITY:0
TRANSP:TRANSPARENT
END:VEVENT
END:VCALENDAR