BEGIN:VCALENDAR
VERSION:2.0
METHOD:PUBLISH
CALSCALE:GREGORIAN
PRODID:-//Refresh Web Development//Helios Calendar//EN
X-FROM-URL:https://www.bayareascience.org/calendar/index.php?com=details&eID=35548
X-WR-RELCALID:BayAreaScience.org Zooming into the Landscape of Topological States and Collective Excitations 20240311T143000
X-WR-TIMEZONE:America/New_York
X-WR-CALNAME:BayAreaScience.org
BEGIN:VEVENT
URL;VALUE=URI:https://www.bayareascience.org/calendar/index.php?com=detail&eID=35548
DTSTART:20240311T143000
DTEND:20240311T153000
SUMMARY:Zooming into the Landscape of Topological States and Collective Excitations
DESCRIPTION:Nanoscale electrodynamics offers a unique perspective on states with bulk-edge correspondence or spatially-dependent excitations. This presentation will introduce our latest advancements in optically...\n______________________________\nThis Event Downloaded From a Helios Calendar Powered Site
LOCATION:Birge Hall - 100 South Dr Room 50\, UC Berkeley\, Berkeley\, CA  94720
CATEGORIES:BayAreaScience.org Events
PRIORITY:0
TRANSP:TRANSPARENT
END:VEVENT
END:VCALENDAR