BEGIN:VCALENDAR
VERSION:2.0
METHOD:PUBLISH
CALSCALE:GREGORIAN
PRODID:-//Refresh Web Development//Helios Calendar//EN
X-FROM-URL:https://www.bayareascience.org/calendar/index.php?com=details&eID=35549
X-WR-RELCALID:BayAreaScience.org A conversation with David Leonhardt from the New York Times 20240404T170000
X-WR-TIMEZONE:America/New_York
X-WR-CALNAME:BayAreaScience.org
BEGIN:VEVENT
URL;VALUE=URI:https://www.bayareascience.org/calendar/index.php?com=detail&eID=35549
DTSTART:20240404T170000
DTEND:20240404T180000
SUMMARY:A conversation with David Leonhardt from the New York Times
DESCRIPTION:Join usÂ on...\n______________________________\nThis Event Downloaded From a Helios Calendar Powered Site
LOCATION:SRI International - 3333 Coyote Hill Rd Palo Alto Research Center\, Palo Alto\, CA  94304
CATEGORIES:BayAreaScience.org Events
PRIORITY:0
TRANSP:TRANSPARENT
END:VEVENT
END:VCALENDAR