BEGIN:VCALENDAR
VERSION:2.0
METHOD:PUBLISH
CALSCALE:GREGORIAN
PRODID:-//Refresh Web Development//Helios Calendar//EN
X-FROM-URL:https://www.bayareascience.org/calendar/index.php?com=details&eID=35551
X-WR-RELCALID:BayAreaScience.org Sunprint Kit Celebration at the Lawrence Hall of Science 20240330T100000
X-WR-TIMEZONE:America/New_York
X-WR-CALNAME:BayAreaScience.org
BEGIN:VEVENT
URL;VALUE=URI:https://www.bayareascience.org/calendar/index.php?com=detail&eID=35551
DTSTART:20240330T100000
DTEND:20240330T170000
SUMMARY:Sunprint Kit Celebration at the Lawrence Hall of Science
DESCRIPTION:Celebrate Spring Break with solar science! Weâ€™ll have a printmaking station all week featuring our SunprintÂ® Kits paper in Forces That Shape the Bay. Use your creativity\, a variety of...\n______________________________\nThis Event Downloaded From a Helios Calendar Powered Site
LOCATION:Lawrence Hall of Science - 1 Centennial Drive \, Berkeley\, CA USA 94720
CATEGORIES:BayAreaScience.org Events
PRIORITY:0
TRANSP:TRANSPARENT
END:VEVENT
END:VCALENDAR