BEGIN:VCALENDAR
VERSION:2.0
METHOD:PUBLISH
CALSCALE:GREGORIAN
PRODID:-//Refresh Web Development//Helios Calendar//EN
X-FROM-URL:https://www.bayareascience.org/calendar/index.php?com=details&eID=35552
X-WR-RELCALID:BayAreaScience.org Panel Discussion on Private Sector and Climate Change 20240402T180000
X-WR-TIMEZONE:America/New_York
X-WR-CALNAME:BayAreaScience.org
BEGIN:VEVENT
URL;VALUE=URI:https://www.bayareascience.org/calendar/index.php?com=detail&eID=35552
DTSTART:20240402T180000
DTEND:20240402T193000
SUMMARY:Panel Discussion on Private Sector and Climate Change
DESCRIPTION:Rausser College of Natural Resources and Haas School of Business are hosting a panel discussion on the private sectorâ€™s role in helping to fight climate change with speaker Kara Hurst\, Chief...\n______________________________\nThis Event Downloaded From a Helios Calendar Powered Site
LOCATION:UC Berkeley - Spieker Auditorium \, Berkeley\, CA  94720
CATEGORIES:BayAreaScience.org Events
PRIORITY:0
TRANSP:TRANSPARENT
END:VEVENT
END:VCALENDAR