BEGIN:VCALENDAR
VERSION:2.0
METHOD:PUBLISH
CALSCALE:GREGORIAN
PRODID:-//Refresh Web Development//Helios Calendar//EN
X-FROM-URL:https://www.bayareascience.org/calendar/index.php?com=details&eID=35562
X-WR-RELCALID:BayAreaScience.org Storytelling and the Climate Crisis 20240311T160000
X-WR-TIMEZONE:America/New_York
X-WR-CALNAME:BayAreaScience.org
BEGIN:VEVENT
URL;VALUE=URI:https://www.bayareascience.org/calendar/index.php?com=detail&eID=35562
DTSTART:20240311T160000
DTEND:20240311T160000
SUMMARY:Storytelling and the Climate Crisis
DESCRIPTION:Contemporary writers and activists have described the climate crisis as\, in part\, a crisis of the imagination\, of culture\, and of storytelling. In this panel\, weâ€™ll hear from writers and...\n______________________________\nThis Event Downloaded From a Helios Calendar Powered Site
LOCATION:Social Sciences Building Room 820 - UC Berkeley \, Berkeley\, CA  94720
CATEGORIES:BayAreaScience.org Events
PRIORITY:0
TRANSP:TRANSPARENT
END:VEVENT
END:VCALENDAR