BEGIN:VCALENDAR
VERSION:2.0
METHOD:PUBLISH
CALSCALE:GREGORIAN
PRODID:-//Refresh Web Development//Helios Calendar//EN
X-FROM-URL:https://www.bayareascience.org/calendar/index.php?com=details&eID=35564
X-WR-RELCALID:BayAreaScience.org Berkeley Geographersâ€™ multifaceted perspectives on Californiaâ€™s environmental change 20240320T153000
X-WR-TIMEZONE:America/New_York
X-WR-CALNAME:BayAreaScience.org
BEGIN:VEVENT
URL;VALUE=URI:https://www.bayareascience.org/calendar/index.php?com=detail&eID=35564
DTSTART:20240320T153000
DTEND:20240320T170000
SUMMARY:Berkeley Geographersâ€™ multifaceted perspectives on Californiaâ€™s environmental change
DESCRIPTION:Berkeley Geographers have a long and proud history of research on the hydroclimate and geomorphology of California. In this talk by Geography faculty\, we will feature work by Berkeley Geographers...\n______________________________\nThis Event Downloaded From a Helios Calendar Powered Site
LOCATION:McCone Hall - UC Berkeley Room 575\, Berkeley\, CA  94720
CATEGORIES:BayAreaScience.org Events
PRIORITY:0
TRANSP:TRANSPARENT
END:VEVENT
END:VCALENDAR