BEGIN:VCALENDAR
VERSION:2.0
METHOD:PUBLISH
CALSCALE:GREGORIAN
PRODID:-//Refresh Web Development//Helios Calendar//EN
X-FROM-URL:https://www.bayareascience.org/calendar/index.php?com=details&eID=35568
X-WR-RELCALID:BayAreaScience.org  Spring flowers at Bouverie Preserve 20240406T100000
X-WR-TIMEZONE:America/New_York
X-WR-CALNAME:BayAreaScience.org
BEGIN:VEVENT
URL;VALUE=URI:https://www.bayareascience.org/calendar/index.php?com=detail&eID=35568
DTSTART:20240406T100000
DTEND:20240406T130000
SUMMARY: Spring flowers at Bouverie Preserve
DESCRIPTION:Join us for a 3-hour docent-led nature walk at the 535-acre Bouverie Preserve in Glen Ellen. You will be in small groups while strolling through and appreciating the unique beauty of our oak and...\n______________________________\nThis Event Downloaded From a Helios Calendar Powered Site
LOCATION:Bouverie Preserve - 13935 California 12 \, Glen Ellen\, CA  95442
CATEGORIES:BayAreaScience.org Events
PRIORITY:0
TRANSP:TRANSPARENT
END:VEVENT
END:VCALENDAR