BEGIN:VCALENDAR
VERSION:2.0
METHOD:PUBLISH
CALSCALE:GREGORIAN
PRODID:-//Refresh Web Development//Helios Calendar//EN
X-FROM-URL:https://www.bayareascience.org/calendar/index.php?com=details&eID=35570
X-WR-RELCALID:BayAreaScience.org Electrified Home Tour 20240310T110000
X-WR-TIMEZONE:America/New_York
X-WR-CALNAME:BayAreaScience.org
BEGIN:VEVENT
URL;VALUE=URI:https://www.bayareascience.org/calendar/index.php?com=detail&eID=35570
DTSTART:20240310T110000
DTEND:20240310T150000
SUMMARY:Electrified Home Tour
DESCRIPTION:Do you know that electrifying your home can save you money\, protect your and your childrenâ€™s health\, help reduce global warming\, and keep you more comfortable?Come learn how on the...\n______________________________\nThis Event Downloaded From a Helios Calendar Powered Site
LOCATION:Various -  \, \, CA  
CATEGORIES:BayAreaScience.org Events
PRIORITY:0
TRANSP:TRANSPARENT
END:VEVENT
END:VCALENDAR