BEGIN:VCALENDAR
VERSION:2.0
METHOD:PUBLISH
CALSCALE:GREGORIAN
PRODID:-//Refresh Web Development//Helios Calendar//EN
X-FROM-URL:https://www.bayareascience.org/calendar/index.php?com=details&eID=35577
X-WR-RELCALID:BayAreaScience.org Atmosphere & Energy Winter Seminar - Florian Dahlhausen 20240305T120000
X-WR-TIMEZONE:America/New_York
X-WR-CALNAME:BayAreaScience.org
BEGIN:VEVENT
URL;VALUE=URI:https://www.bayareascience.org/calendar/index.php?com=detail&eID=35577
DTSTART:20240305T120000
DTEND:20240305T132000
SUMMARY:Atmosphere & Energy Winter Seminar - Florian Dahlhausen
DESCRIPTION:The Atmosphere/Energy Seminar is an interdisciplinary seminar with talks by researchers and practitioners in the fields of atmospheric science and renewable energy engineering. Addresses the causes...\n______________________________\nThis Event Downloaded From a Helios Calendar Powered Site
LOCATION:Lane History Corner\, Bldg 200 - Stanford University 450 Serra Mall\, Stanford\, CA  94305
CATEGORIES:BayAreaScience.org Events
PRIORITY:0
TRANSP:TRANSPARENT
END:VEVENT
END:VCALENDAR