BEGIN:VCALENDAR
VERSION:2.0
METHOD:PUBLISH
CALSCALE:GREGORIAN
PRODID:-//Refresh Web Development//Helios Calendar//EN
X-FROM-URL:https://www.bayareascience.org/calendar/index.php?com=details&eID=35583
X-WR-RELCALID:BayAreaScience.org After Dark: Illumination 20240321T180000
X-WR-TIMEZONE:America/New_York
X-WR-CALNAME:BayAreaScience.org
BEGIN:VEVENT
URL;VALUE=URI:https://www.bayareascience.org/calendar/index.php?com=detail&eID=35583
DTSTART:20240321T180000
DTEND:20240321T220000
SUMMARY:After Dark: Illumination
DESCRIPTION:Explore the wonders of light with 650+ interactive exhibits and brilliant conversations led by scientists. Play with your brainâ€™s perception at Adapting to Color\, investigate the mystery...\n______________________________\nThis Event Downloaded From a Helios Calendar Powered Site
LOCATION:ExplOratorium - Pier 15 (Embarcadero at Green Street)  \, San Francisco\, CA USA 94111
CATEGORIES:BayAreaScience.org Events
PRIORITY:0
TRANSP:TRANSPARENT
END:VEVENT
END:VCALENDAR