BEGIN:VCALENDAR
VERSION:2.0
METHOD:PUBLISH
CALSCALE:GREGORIAN
PRODID:-//Refresh Web Development//Helios Calendar//EN
X-FROM-URL:https://www.bayareascience.org/calendar/index.php?com=details&eID=35592
X-WR-RELCALID:BayAreaScience.org Through the Looking Glass Pilot 20240407T100000
X-WR-TIMEZONE:America/New_York
X-WR-CALNAME:BayAreaScience.org
BEGIN:VEVENT
URL;VALUE=URI:https://www.bayareascience.org/calendar/index.php?com=detail&eID=35592
DTSTART:20240407T100000
DTEND:20240407T140000
SUMMARY:Through the Looking Glass Pilot
DESCRIPTION:Help us test a new activity for your future scientists aged 6 and under. Explore nature with various optical tools that can focus far beyond what our eyes typically see. Zoom in and zoom out with...\n______________________________\nThis Event Downloaded From a Helios Calendar Powered Site
LOCATION:Lawrence Hall of Science - 1 Centennial Drive \, Berkeley\, CA USA 94720
CATEGORIES:BayAreaScience.org Events
PRIORITY:0
TRANSP:TRANSPARENT
END:VEVENT
END:VCALENDAR