BEGIN:VCALENDAR
VERSION:2.0
METHOD:PUBLISH
CALSCALE:GREGORIAN
PRODID:-//Refresh Web Development//Helios Calendar//EN
X-FROM-URL:https://www.bayareascience.org/calendar/index.php?com=details&eID=35593
X-WR-RELCALID:BayAreaScience.org Communicating Algorithmic Science to the Public 20240320T174500
X-WR-TIMEZONE:America/New_York
X-WR-CALNAME:BayAreaScience.org
BEGIN:VEVENT
URL;VALUE=URI:https://www.bayareascience.org/calendar/index.php?com=detail&eID=35593
DTSTART:20240320T174500
DTEND:20240320T174500
SUMMARY:Communicating Algorithmic Science to the Public
DESCRIPTION:Algorithms increasingly pervade every aspect of daily life. The importance of this societal development is widely acknowledged\, but how much does the public understand about the underlying science?...\n______________________________\nThis Event Downloaded From a Helios Calendar Powered Site
LOCATION:Calvin Laboratory - UC Berkeley Auditorium\, Berkeley\, CA  94720
CATEGORIES:BayAreaScience.org Events
PRIORITY:0
TRANSP:TRANSPARENT
END:VEVENT
END:VCALENDAR