BEGIN:VCALENDAR
VERSION:2.0
METHOD:PUBLISH
CALSCALE:GREGORIAN
PRODID:-//Refresh Web Development//Helios Calendar//EN
X-FROM-URL:https://www.bayareascience.org/calendar/index.php?com=details&eID=35598
X-WR-RELCALID:BayAreaScience.org Family Day at Martin Griffin Preserve 20240601T090000
X-WR-TIMEZONE:America/New_York
X-WR-CALNAME:BayAreaScience.org
BEGIN:VEVENT
URL;VALUE=URI:https://www.bayareascience.org/calendar/index.php?com=detail&eID=35598
DTSTART:20240601T090000
DTEND:20240601T150000
SUMMARY:Family Day at Martin Griffin Preserve
DESCRIPTION:Visit Martin Griffin Preserve in Stinson Beach and let your kids be your guide!Enjoy walking trails\, redwood forests\, Bolinas Lagoon views\, and more. Only a short drive to the beach.\n______________________________\nThis Event Downloaded From a Helios Calendar Powered Site
LOCATION:Martin Griffin Preserve - 4900 Shoreline Highway 1 \, Stinson Beach\, CA  94970
CATEGORIES:BayAreaScience.org Events
PRIORITY:0
TRANSP:TRANSPARENT
END:VEVENT
END:VCALENDAR