BEGIN:VCALENDAR
VERSION:2.0
METHOD:PUBLISH
CALSCALE:GREGORIAN
PRODID:-//Refresh Web Development//Helios Calendar//EN
X-FROM-URL:https://www.bayareascience.org/calendar/index.php?com=details&eID=35599
X-WR-RELCALID:BayAreaScience.org Techfest: Back to the '80s 20240427T100000
X-WR-TIMEZONE:America/New_York
X-WR-CALNAME:BayAreaScience.org
BEGIN:VEVENT
URL;VALUE=URI:https://www.bayareascience.org/calendar/index.php?com=detail&eID=35599
DTSTART:20240427T100000
DTEND:20240427T140000
SUMMARY:Techfest: Back to the '80s
DESCRIPTION:CHMâ€™s all-day TechFest events offer special family-oriented experiences included in the price of Museum admission. Weâ€™ll be bringing you tech-themed demos\, performances\, hands-on...\n______________________________\nThis Event Downloaded From a Helios Calendar Powered Site
LOCATION:Computer History Museum - 1401 N Shoreline Blvd  \, Mountain View\, CA  94043
CATEGORIES:BayAreaScience.org Events
PRIORITY:0
TRANSP:TRANSPARENT
END:VEVENT
END:VCALENDAR