BEGIN:VCALENDAR
VERSION:2.0
METHOD:PUBLISH
CALSCALE:GREGORIAN
PRODID:-//Refresh Web Development//Helios Calendar//EN
X-FROM-URL:https://www.bayareascience.org/calendar/index.php?com=details&eID=35601
X-WR-RELCALID:BayAreaScience.org How Social Media Impacts Collective Understandings of War 20240312T180000
X-WR-TIMEZONE:America/New_York
X-WR-CALNAME:BayAreaScience.org
BEGIN:VEVENT
URL;VALUE=URI:https://www.bayareascience.org/calendar/index.php?com=detail&eID=35601
DTSTART:20240312T180000
DTEND:20240312T190000
SUMMARY:How Social Media Impacts Collective Understandings of War
DESCRIPTION:How does the prevalence and ubiquity of social media impact and change perceptions of global conflict in the 21st century?In the last 20 years\, conflict and war have unfolded in real time...\n______________________________\nThis Event Downloaded From a Helios Calendar Powered Site
LOCATION:Manny's - 3092 16th St \, San Francisco\, CA  94103
CATEGORIES:BayAreaScience.org Events
PRIORITY:0
TRANSP:TRANSPARENT
END:VEVENT
END:VCALENDAR