BEGIN:VCALENDAR
VERSION:2.0
METHOD:PUBLISH
CALSCALE:GREGORIAN
PRODID:-//Refresh Web Development//Helios Calendar//EN
X-FROM-URL:https://www.bayareascience.org/calendar/index.php?com=details&eID=35605
X-WR-RELCALID:BayAreaScience.org Current and future sinkhole susceptibility in karst and pseudokarst areas of the conterminous United States - Livestream 20240321T180000
X-WR-TIMEZONE:America/New_York
X-WR-CALNAME:BayAreaScience.org
BEGIN:VEVENT
URL;VALUE=URI:https://www.bayareascience.org/calendar/index.php?com=detail&eID=35605
DTSTART:20240321T180000
DTEND:20240321T193000
SUMMARY:Current and future sinkhole susceptibility in karst and pseudokarst areas of the conterminous United States - Livestream
DESCRIPTION:Speakers: Nathan Wood\, USGS Western Geographic Science Center & Dan Doctor\, Florence Bascom Science Center\n______________________________\nThis Event Downloaded From a Helios Calendar Powered Site
LOCATION:US Geological Survey Public Lecture Series -  \, \, CA  
CATEGORIES:BayAreaScience.org Events
PRIORITY:0
TRANSP:TRANSPARENT
END:VEVENT
END:VCALENDAR