BEGIN:VCALENDAR
VERSION:2.0
METHOD:PUBLISH
CALSCALE:GREGORIAN
PRODID:-//Refresh Web Development//Helios Calendar//EN
X-FROM-URL:https://www.bayareascience.org/calendar/index.php?com=details&eID=35618
X-WR-RELCALID:BayAreaScience.org AI and Science for Climate Symposium 20240327T113000
X-WR-TIMEZONE:America/New_York
X-WR-CALNAME:BayAreaScience.org
BEGIN:VEVENT
URL;VALUE=URI:https://www.bayareascience.org/calendar/index.php?com=detail&eID=35618
DTSTART:20240327T113000
DTEND:20240327T180000
SUMMARY:AI and Science for Climate Symposium
DESCRIPTION:Join us at the forefront of innovation and environmental stewardship at the University of California\, Berkeley for a pivotal symposium. This gathering will convene experts across the fields of...\n______________________________\nThis Event Downloaded From a Helios Calendar Powered Site
LOCATION:Sutardja Dai Hall - UC Berkeley Banatao Auditorium\, Berkeley\, CA  94720
CATEGORIES:BayAreaScience.org Events
PRIORITY:0
TRANSP:TRANSPARENT
END:VEVENT
END:VCALENDAR