BEGIN:VCALENDAR
VERSION:2.0
METHOD:PUBLISH
CALSCALE:GREGORIAN
PRODID:-//Refresh Web Development//Helios Calendar//EN
X-FROM-URL:https://www.bayareascience.org/calendar/index.php?com=details&eID=35623
X-WR-RELCALID:BayAreaScience.org  Wild Stories from the History of Bird Migration Research - Livestream 20240418T190000
X-WR-TIMEZONE:America/New_York
X-WR-CALNAME:BayAreaScience.org
BEGIN:VEVENT
URL;VALUE=URI:https://www.bayareascience.org/calendar/index.php?com=detail&eID=35623
DTSTART:20240418T190000
DTEND:20240418T190000
SUMMARY: Wild Stories from the History of Bird Migration Research - Livestream
DESCRIPTION:Weâ€™ve all heard amazing facts about bird migration - the long distances that birds travel\, the ways that they navigate\, etc. But did you ever wonder how we figured all of this out? While...\n______________________________\nThis Event Downloaded From a Helios Calendar Powered Site
LOCATION:Golden Gate Bird Alliance -  \, \, CA  
CATEGORIES:BayAreaScience.org Events
PRIORITY:0
TRANSP:TRANSPARENT
END:VEVENT
END:VCALENDAR