BEGIN:VCALENDAR
VERSION:2.0
METHOD:PUBLISH
CALSCALE:GREGORIAN
PRODID:-//Refresh Web Development//Helios Calendar//EN
X-FROM-URL:https://www.bayareascience.org/calendar/index.php?com=details&eID=35625
X-WR-RELCALID:BayAreaScience.org COVID-19: Do We Still Need To Be Concerned? - Livestream 20240415T150000
X-WR-TIMEZONE:America/New_York
X-WR-CALNAME:BayAreaScience.org
BEGIN:VEVENT
URL;VALUE=URI:https://www.bayareascience.org/calendar/index.php?com=detail&eID=35625
DTSTART:20240415T150000
DTEND:20240415T160000
SUMMARY:COVID-19: Do We Still Need To Be Concerned? - Livestream
DESCRIPTION:Ken Polse\, Professor Emeritus\, Optometry\, and John Swartzberg\, Clinical Professor Emeritus\, Infectious Diseases & Vaccinology\, will discuss the current state of Covid in the U.S. and our community\,...\n______________________________\nThis Event Downloaded From a Helios Calendar Powered Site
LOCATION:UC Berkeley -  \, \, CA  
CATEGORIES:BayAreaScience.org Events
PRIORITY:0
TRANSP:TRANSPARENT
END:VEVENT
END:VCALENDAR