BEGIN:VCALENDAR
VERSION:2.0
METHOD:PUBLISH
CALSCALE:GREGORIAN
PRODID:-//Refresh Web Development//Helios Calendar//EN
X-FROM-URL:https://www.bayareascience.org/calendar/index.php?com=details&eID=35667
X-WR-RELCALID:BayAreaScience.org Robots on Ice 4.0 20240421T150000
X-WR-TIMEZONE:America/New_York
X-WR-CALNAME:BayAreaScience.org
BEGIN:VEVENT
URL;VALUE=URI:https://www.bayareascience.org/calendar/index.php?com=detail&eID=35667
DTSTART:20240421T150000
DTEND:20240421T160000
SUMMARY:Robots on Ice 4.0
DESCRIPTION:That's right! Robots on Ice is back for its fourth year!Bring out your bots\, bring out your bot skating attire\, come to cheer on our bots & skaters\, and see you there.Additional...\n______________________________\nThis Event Downloaded From a Helios Calendar Powered Site
LOCATION:Yerba Buena Ice Skating & Bowling Center - 750 FOlsom St \, San Francisco\, CA  94107
CATEGORIES:BayAreaScience.org Events
PRIORITY:0
TRANSP:TRANSPARENT
END:VEVENT
END:VCALENDAR