BEGIN:VCALENDAR
VERSION:2.0
METHOD:PUBLISH
CALSCALE:GREGORIAN
PRODID:-//Refresh Web Development//Helios Calendar//EN
X-FROM-URL:https://www.bayareascience.org/calendar/index.php?com=details&eID=35669
X-WR-RELCALID:BayAreaScience.org Stewardship Saturday: Investigating Tidepools for Ocean Health 20240413T083000
X-WR-TIMEZONE:America/New_York
X-WR-CALNAME:BayAreaScience.org
BEGIN:VEVENT
URL;VALUE=URI:https://www.bayareascience.org/calendar/index.php?com=detail&eID=35669
DTSTART:20240413T083000
DTEND:20240413T130000
SUMMARY:Stewardship Saturday: Investigating Tidepools for Ocean Health
DESCRIPTION:This free program for youth ages 13-18 features rotating themes exploring the science of the Marine Mammal Center.Join Latino Outdoors\, Greater Farallones\,...\n______________________________\nThis Event Downloaded From a Helios Calendar Powered Site
LOCATION:TBA -  \, Bodega Bay\, CA  94923
CATEGORIES:BayAreaScience.org Events
PRIORITY:0
TRANSP:TRANSPARENT
END:VEVENT
END:VCALENDAR