BEGIN:VCALENDAR
VERSION:2.0
METHOD:PUBLISH
CALSCALE:GREGORIAN
PRODID:-//Refresh Web Development//Helios Calendar//EN
X-FROM-URL:https://www.bayareascience.org/calendar/index.php?com=details&eID=35674
X-WR-RELCALID:BayAreaScience.org Afternoon Hike at Mindego Hill 20240330T150000
X-WR-TIMEZONE:America/New_York
X-WR-CALNAME:BayAreaScience.org
BEGIN:VEVENT
URL;VALUE=URI:https://www.bayareascience.org/calendar/index.php?com=detail&eID=35674
DTSTART:20240330T150000
DTEND:20240330T180000
SUMMARY:Afternoon Hike at Mindego Hill
DESCRIPTION:Join Peninsula Open Space Trust for a beautiful 5-mile hike from the Russian Ridge Open Space Preserve to the top of the POST-protected Mindego Hill. You will be guided by POST ambassadors who...\n______________________________\nThis Event Downloaded From a Helios Calendar Powered Site
LOCATION:Mindego Hill Trail Head - Alpine Rd Audrey C. Rust Parking Lot\, Redwood City\, CA  94062
CATEGORIES:BayAreaScience.org Events
PRIORITY:0
TRANSP:TRANSPARENT
END:VEVENT
END:VCALENDAR